Workbook

Sheet Annexure A
A1: Annexure
A2: Initial Pile Load test-Test Pile Particulars | O2: 19960.5 | P2: =O2-$D$8 -> 19644.878
A3: Name of Work: | C3: Construction of High Level Bridge across Cauvery river ar km 315/6-316/2 of Chennai- Trichy-Dindugal road (SHU-9) in between Trichy and Srirangam | J3: 1378 | M3: =51.36-5 -> 46.36 | O3: 19971.5 | P3: =O3-$D$8 -> 19655.878
A4: Sl.No | B4: Description | C4: Details | D4: Data | J4: 1627.25 | K4: =J3-J4 -> -249.25
A5: 1 | B5: Test pile | C5: Location of the pile (schematic sketch showing details and bore particulars also enclosed) | D5: Near A1 side | I5: Check the girder name details in load calculation
A6: 2 | C6: Grade Seperator/ Bridge/Bypass | D6: Bridge (HLB) | I6: Confirm Bore level | K6: =F36 -> 67.47 | L6: Water table | M6: =K6-K7 -> 65.137 | O6: =50.28-32 -> 18.28
A7: 3 | C7: Name of the River Crossing | D7: Cauvery | I7: Water Level | K7: 2.333 | P7: =50.85-18.28 -> 32.57
A8: 4 | C8: Chainage in m | D8: 315.622 | J8: =D11-D12 -> 3.5 | L8: 33.2 | M8: 1.3 | N8: =L8-M8 -> 31.9 | R8: 33
A9: 5 | C9: Reduced level of the existing ground level adjacent to the test pile | D9: 67.47 | I9: =D9-D10 -> 1.5 | J9: =D11-D9 -> 0.11 | K9: 50.85 | L9: =K9-3 -> 47.85 | M9: 50.17 | N9: =M9-L9 -> 2.32 | O9: =50.17-2.32 -> 47.85 | R9: 31.295
A10: 6 | C10: Water table level | D10: 65.97 | I10: =D9-D10 -> 1.5 | J10: 103.15 | K10: 0.5 | L10: =J10-K10 -> 102.65 | M10: =D11-D9 -> 0.11 | N10: =D9-D10 -> 1.5
A11: 7 | C11: Pile top level ( Test level ) | D11: 67.58 | I11: =D11-D9 -> 0.11 | J11: =D11-D17 -> 20.58 | K11: 0.2 | L11: =D11-K11 -> 67.38 | P11: 50.865
A12: =A11+1 -> 8 | C12: Cutoff level | D12: 64.08 | I12: =D11-D12 -> 3.5 | J12: =D9-D12 -> 3.39 | K12: =55.214-53.75 -> 1.464 | P12: 50.17
A13: =A12+1 -> 9 | C13: Sill level | D13: 65.8 | H13: Top of Hard Rock | P13: 50.17
A14: =A13+1 -> 10 | C14: Scour level ( if applicable) | D14: 62.525 | H14: 94.563 | I14: =D11-D14 -> 5.055 | J14: =D9-D14 -> 4.945 | O14: =D9-D14 -> 4.945
A15: =A14+1 -> 11 | C15: Reduced level of bottom of pile as per approved design | D15: 47 | H15: Friction Depth | L15: =D11-D17 -> 20.58
D16: (Abutment A1) | H16: =D11-H14 -> -26.983
A17: =A15+1 -> 12 | C17: Reduced level of bottom of the pile provided in the field | D17: 47 | H17: =D9-H14 -> -27.093 | R17: =AH17 -> 0 | AB17: =F17 -> 0 | AF17: 0 | AG17: =0.5*AI17*AC17 -> 0 | AI17: =AB17*AD17 -> 0
A18: =A17+1 -> 13 | C18: Reduced level of ( bottom level ) liner provided in the design | D18: - | K18: 100 | L18: 6.019 | M18: =K18-L18 -> 93.981 | O18: =50.85-32 -> 18.85 | R18: =AH18 -> 0 | AF18: =AI17*AC18 -> 0 | AG18: =-(AI18-AI17)*AC18/2 -> 0 | AI18: =AB18*AD18 -> 0
D19: (Abutment A1) | R19: =AH19 -> 0 | AF19: =AI18*AC19 -> 0 | AG19: =(AI19-AI18)*AC19/2 -> 0 | AI19: =AB19*AD19 -> 0
A20: =A18+1 -> 14 | C20: Reduced level of (bottom level ) liner provided in the field | D20: -
A21: =A20+1 -> 15 | C21: Difference in the Length of liner | D21: - | I21: =D18-D20 -> #VALUE!
A22: =A21+1 -> 16 | C22: Pile diameter in m | D22: 1.2
A23: =A22+1 -> 17 | C23: No of piles in the group | D23: 15 No's of pile (Testing for Individual pile)
A24: =A23+1 -> 18 | C24: Design load(excluding self wt) | D24: 3090
D25: ="(or) "&'Load calculation'!D6&" MT" -> (or) 315 MT
A26: =A24+1 -> 19 | C26: Date of casting of pile | D26: 01.08.2024
A27: =A26+1 -> 20 | B27: Test pile | C27: Grade of cement | D27: OPC 53 grade
A28: =A27+1 -> 21 | C28: Mix design details | D28: M35 | L28: =17.5*3.14*1.2*1.2/4 -> 19.782
A29: =A28+1 -> 22 | C29: Cement consumption details | D29: 23.139 | J29: =D11-D17 -> 20.58 | K29: =22/7*D22*D22/4*J29 -> 23.2848 | L29: =D11-J29 -> 47
D30: @430 kg/m3 | J30: =51.57-J29 -> 30.99
A31: =A29+1 -> 23 | C31: Pile installed in Rock or Soil | D31: Soft Disintegrated Rock | J31: =51.365-36 -> 15.365 | M31: =N32-M32 -> 10.4 | O31: =O32-N32 -> 10.4
A32: =A31+1 -> 24 | C32: Frictional component value upto scour level/cutoff level | D32: ='Load calculation'!D17 -> 24.142 | J32: 52.65 | M32: 395.02 | N32: =N33 -> 405.42 | O32: 415.82
A33: =A32+1 -> 25 | B33: Subsurface exploration | C33: Details | D33: Investigation bore | F33: Confirmatory bore | J33: 52.64 | M33: 390 | N33: 405.42 | O33: 410
A34: =A33+1 -> 26 | C34: Nearest bore number for the test pile | D34: BH1 | F34: BH1 | J34: 52.45 | M34: =N33-M33 -> 15.42 | O34: =O33-N33 -> 4.58
A35: =A34+1 -> 27 | C35: Chainage of bore Point | D35: 315.632 | F35: 315.622 | J35: =52.64-3 -> 49.64
A36: =A35+1 -> 28 | C36: Reduced level of bore point | D36: 66.39 | F36: 67.47 | I36: =F36-2.32 -> 65.15 | J36: =D36-J29 -> 45.81 | K36: =F36-D36 -> 1.08 | L36: =5.1+K36 -> 6.18 | M36: 2.33 | N36: =F36-M36 -> 65.14
C37: Soil strata at founding level | D37: Soft Disintegrated Rock | F37: Soft Disintegrated Rock
A38: =A36+1 -> 29 | C38: Is any variation in the soil profile | D38: No
A39: =A38+1 -> 30 | C39: In case of variation in the soil profile opinion of the Pile designing authority obtained | D39: -
A40: =A39+1 -> 31 | B40: Kentledge load calculation | C40: Design load | D40: ='Load calculation'!D5&" kN (or) "&'Load calculation'!D6&" MT" -> 3090 kN (or) 315 MT
...

Sheet Skin Friction-Sand
A1: Skin Friction Calculation
A3: Name of Work: | E3: ='Annexure A'!C3 -> Construction of High Level Bridge across Cauvery river ar km 315/6-316/2 of Chennai- Trichy-Dindugal road (SHU-9) in between Trichy and Srirangam
A5: Pile location: | E5: ='Annexure A'!D5 -> Near A1 side
A6: Chainage: | E6: ='Annexure A'!D8 -> 315.622
K8: Skin Friction = Rf = ∑ni=1 [ Ki x Pdi x tanδ + α Ci] Asi + α C Asi
B9: Pile Top | D9: ='Annexure A'!D11:G11 -> 67.58 | J9: =D9-D10 -> -35.4
D10: 102.98 | J10: =D10-D11 -> 35.51
B11: Ground Level | D11: ='Annexure A'!D9:G9 -> 67.47 | E11: SAND | J11: =D11-D12 -> 1.5 | L11: Layer 1 | M11: Y = 17.8 kN/m2, NMC = 8.20 %, Ø=33.4, C=0 t/m2, N=14.42
B12: Water Table | D12: ='Annexure A'!D10:G10 -> 65.97 | J12: =1.5-J11-J10 -> -35.51 | L12: Layer 2 | M12: Y = 17.8 kN/m2, NMC = 8.20 %, Ø=33.4, C=0 t/m2, N=14.42
D13: =D12-J12 -> 101.48 | J13: 1.5 | L13: Layer 3 | M13: Y = 18.1 kN/m2, NMC = 8.50 %, Ø=34.2, C=0 t/m2, N=15.98
D14: =D13-J13 -> 99.98 | J14: 1.5 | L14: Layer 4 | M14: Y = 18.4 kN/m2, NMC = 8.60 %, Ø=34.9, C=0 t/m2, N=14.32
D15: =D14-J14 -> 98.48 | J15: =D15-D16 -> 0.95 | L15: Layer 5 | M15: Y = 18.5 kN/m2, NMC = 8.80 %, Ø=35.3, C=0 t/m2, N>50
A16: Bottom of Soil layer | D16: 97.53 | E16: ='Annexure A'!D22 -> 1.2
A18: Layer | B18: Layer Depth (m) | C18: Bulk Density t/m2 | D18: Bulk Density t/m2 | E18: Natural Moisture content (%) | F18: Dry Density (t/m2) | G18: Yd (t/m2) | H18: Ysub (t/m2) | I18: Diameter (m) | J18: Angle of internal friction φ | K18: K | L18: N | M18: α | N18: C (t/m2) | O18: Height (m) | P18: Po (t/m2) | Q18: P (t/m2) | R18: tan Ø | S18: A = ΠDh (m2) | T18: skin friction tonne (MT)
A19: 1 | B19: =J11 -> 1.5 | C19: 17.8 | D19: =ROUND(C19/9.81,3) -> 1.814 | E19: 8.2 | F19: =ROUND(D19/(1+E19/100),3) -> 1.677 | G19: =F19 -> 1.677 | I19: 1.2 | J19: 33.4 | K19: 1.5 | L19: 14.42 | M19: 0.4 | N19: 0 | O19: =B19 -> 1.5 | P19: =O19*(G19+H19) -> 2.5155 | Q19: =ROUND(P19/2,3) -> 1.258 | R19: =TAN(RADIANS(J19)) -> 0.65937851 | S19: =ROUND((22*B19*I19/7),3) -> 5.657 | T19: =((K19*Q19*R19+M19*N19)*S19)+M19*N19*S19 -> 7.0387067
A20: 2 | B20: =J12 -> -35.51 | C20: 17.8 | D20: =ROUND(C20/9.81,3) -> 1.814 | E20: 8.2 | F20: =ROUND(D20/(1+E20/100),3) -> 1.677 | H20: =F20-1 -> 0.677 | I20: 1.2 | J20: 33.4 | K20: 1.5 | L20: 14.42 | M20: 0.4 | N20: 0 | O20: =O19+B20 -> -34.01 | P20: =O20*(G20+H20) -> -23.02477 | Q20: =ROUND((P20+P17)/2,3) -> -11.512 | R20: =TAN(RADIANS(J20)) -> 0.65937851 | S20: =ROUND((22*B20*I20/7),3) -> -133.923 | T20: =((K20*Q20*R20+M20*N20)*S20)+M20*N20*S20 -> 1524.8671
A21: 3 | B21: =J13 -> 1.5 | C21: 18.1 | D21: =ROUND(C21/9.81,3) -> 1.845 | E21: 8.5 | F21: =ROUND(D21/(1+E21/100),3) -> 1.7 | H21: =F21-1 -> 0.7 | I21: 1.2 | J21: 34.2 | K21: 1.5 | L21: 15.98 | M21: 0.3 | N21: 0 | O21: =O20+B21 -> -32.51 | P21: =O21*(G21+H21) -> -22.757 | Q21: =ROUND((P21+P20)/2,3) -> -22.891 | R21: =TAN(RADIANS(J21)) -> 0.6795993 | S21: =ROUND((22*B21*I21/7),3) -> 5.657 | T21: =((K21*Q21*R21+M21*N21)*S21)+M21*N21*S21 -> -132.00644
A22: 4 | B22: =J14 -> 1.5 | C22: 18.4 | D22: =ROUND(C22/9.81,3) -> 1.876 | E22: 8.6 | F22: =ROUND(D22/(1+E22/100),3) -> 1.727 | H22: =F22-1 -> 0.727 | I22: 1.2 | J22: 34.9 | K22: 1.5 | L22: 14.2 | M22: 0.4 | N22: 0 | O22: =O21+B22 -> -31.01 | P22: =O22*(G22+H22) -> -22.54427 | Q22: =ROUND((P22+P19)/2,3) -> -10.014 | R22: =TAN(RADIANS(J22)) -> 0.69760966 | S22: =ROUND((22*B22*I22/7),3) -> 5.657 | T22: =((K22*Q22*R22+M22*N22)*S22)+M22*N22*S22 -> -59.278542
A23: 5 | B23: =J15 -> 0.95 | C23: 18.5 | D23: =ROUND(C23/9.81,3) -> 1.886 | E23: 8.8 | F23: =ROUND(D23/(1+E23/100),3) -> 1.733 | H23: =F23-1 -> 0.733 | I23: 1.2 | J23: 35.3 | K23: 1.5 | L23: >50 | M23: 0.3 | N23: 0 | O23: =O22+B23 -> -30.06 | P23: =O23*(G23+H23) -> -22.03398 | Q23: =ROUND((P23+P22)/2,3) -> -22.289 | R23: =TAN(RADIANS(J23)) -> 0.70803947 | S23: =ROUND((22*B23*I23/7),3) -> 3.583 | T23: =((K23*Q23*R23+M23*N23)*S23)+M23*N23*S23 -> -84.817627
T24: =SUM(T19:T23) -> 1255.8032
A28: Divisional Engineer (H)
A29: Projects
A30: Trichy

Sheet Load calculation
A2: Name of Work:- | C2: ='Annexure A'!C3:G3 -> Construction of High Level Bridge across Cauvery river ar km 315/6-316/2 of Chennai- Trichy-Dindugal road (SHU-9) in between Trichy and Srirangam | O2: 1 | P2: kg | Q2: = | R2: 9.81 | S2: N
O3: 1 | P3: N | Q3: = | R3: =1/9.81 -> 0.1019368 | S3: Kg
B4: LOAD CALCULATION
B5: Design Load | C5: = | D5: =ROUND(315*9.81,0) -> 3090 | E5: KN | O5: 1500 | P5: N | Q5: = | R5: =R3*1500 -> 152.9052
C6: = | D6: 315 | E6: MT
B7: Cut of Level | C7: = | D7: RL (+) 38.500 m
B8: Test Level | C8: = | D8: RL (+) 41.230 m
B9: Difference (h) | C9: 52.455 | D9: 2.73 m
P10: Top | Q10: 99.362
B11: Skin friction | C11: = | D11: ∑ni [ Ki x Pdi x tanδ Asi+ α CiAsi ] | P11: Bottom | Q11: 84.23
B12: Skin friction | C12: = | D12: (1 - Sin Ø / 1 + Sin Ø ) h / 2 x µ x tan Ø ¶ dh
B13: Skin friction | C13: = | D13: (1 - Sin 32 / 1 + Sin 32 ) 2.58 / 2 x 1.80 x tan 32 x ¶ x 1.00 x 2.58
C14: = | D14: ='Skin Friction'!V24 -> 60.356 | E14: MT | F14: (Calculation attached) | N14: =sin -> #NAME? | P14: Height | Q14: =Q10-Q11 -> 15.132
B15: Factor of Safety | C15: = | D15: 2.5 | P15: Dia | Q15: =1 -> 1
B16: Load due Skin friction | C16: = | D16: =CONCATENATE(ROUND(D14,3)," / ",D15) -> 60.356 / 2.5 | P16: Volume | Q16: =22*Q15*Q15*Q14/(4*7) -> 11.889429 | Z16: =12*12 -> 144
C17: = | D17: =ROUND(D14/D15,3) -> 24.142 | E17: MT | Q17: =AG17 -> 0 | Z17: =10*10 -> 100 | AA17: =F17 -> 0 | AE17: 0 | AF17: =0.5*AH17*AB17 -> 0 | AH17: =AA17*AC17 -> 0
B18: Add extra Load due Skin friction | C18: = | D18: =CONCATENATE(D6," MT "," + ",D17," MT ") -> 315 MT + 24.142 MT | Q18: =AG18 -> 0 | Z18: 44 | AE18: =AH17*AB18 -> 0 | AF18: =-(AH18-AH17)*AB18/2 -> 0 | AH18: =AA18*AC18 -> 0
B19: Total Load | C19: = | D19: =D6+D17 -> 339.142 | E19: MT | Q19: =AG19 -> 0 | Z19: =80-Z18 -> 36 | AE19: =AH18*AB19 -> 0 | AF19: =(AH19-AH18)*AB19/2 -> 0 | AH19: =AA19*AC19 -> 0
B21: Since it is Initial Pile load test | E21: Test load = | G21: 2.5 | H21: times of design load | Z21: =SUM(Z16:Z20) -> 324
B22: Test Load | C22: = | D22: =CONCATENATE(D19, " x ",G21) -> 339.142 x 2.5 | N22: Main Beam | O22: =K119 -> 2058.308 | P22: =J123 -> 2062.5
C23: = | D23: =ROUND(D19*G21,3) -> 847.855 | E23: MT | O23: =K129 -> 347.92522 | P23: =J133 -> 1250
B24: Kentledge Load required | C24: = | D24: =CONCATENATE(D23," x ",1.25) -> 847.855 x 1.25 | O24: =K139 -> 10683.636 | P24: =J141 -> 10705.395 | R24: =(N31-O31)/2 -> 1.5
C25: = | D25: =ROUND(1.25*D23,3) -> 1059.819 | E25: MT | N25: Cross Beam | O25: =I182 -> 1455.2249 | P25: =I186 -> 2062.5 | R25: =P31 -> 6
B26: Kentledge load provided | C26: = | D26: =I67 -> 1108.1077 | E26: > | F26: =D25 -> 1059.819 | O26: =I189 -> 325.68565 | P26: =I193 -> 1250 | R26: =R24/R25 -> 0.25 | S26: =1/R26 -> 4
B27: Provided Kentledge load is greater that the requirement. Hence Ok. | N27: Prejacked | O27: =I247 -> 1940.8112 | P27: =I251 -> 2062.5
O28: =I254 -> 341.04347 | P28: =I258 -> 1250
N30: Bottom | O30: Top | P30: Height | R30: 684.433
N31: 12 | O31: 9 | P31: 6 | R31: 653.284
R32: =R30-R31 -> 31.149
N34: =(N31-O31)/P31 -> 0.5
N35: =1/N34 -> 2
A36: Name of Work:- | C36: =C2 -> Construction of High Level Bridge across Cauvery river ar km 315/6-316/2 of Chennai- Trichy-Dindugal road (SHU-9) in between Trichy and Srirangam
B37: KENTLEDGE DETAILS
B38: I. Steel Components
A40: 1 | B40: Main Girders - | C40: ='Annexure A'!D48 -> WPB-800x300x262.33 with web plate on both sides ( 12 mm thick Ms plate) & Bottom Flange plate of 30 mm thick 330 mm wide.
B41: ='Annexure A'!F50 -> 4 | C41: Nos | D41: 12 | F41: ='Main Beam'!E36 -> 472.264 | I41: =F41*D41*B41/1000 -> 22.668672 | J41: MT
A42: 2 | B42: Cross Girders - | C42: ='Annexure A'!D51 -> ISMB 450
B43: ='Annexure A'!F53 -> 30 | C43: Nos | D43: 12 | F43: ='Cross Beam'!J13 -> 72.4 | I43: =F43*D43*B43/1000 -> 26.064 | J43: MT | N43: Main Beam | O43: =K119 -> 2058.308 | P43: =J123 -> 2062.5
A44: 3 | B44: MS Plate 6mm thick - | O44: =K129 -> 347.92522 | P44: =J133 -> 1250
B45: (1 Nox 12x12x0.006) | F45: 7850 | I45: 0 | J45: MT | O45: =K139 -> 10683.636 | P45: =J141 -> 10705.395 | R45: =(N52-O52)/2 -> 1.5
...

Sheet Unit weight MSand
A2: Name of work | B2: ='Skin Friction'!E3 -> Construction of High Level Bridge across Cauvery river ar km 315/6-316/2 of Chennai- Trichy-Dindugal road (SHU-9) in between Trichy and Srirangam
B4: Unit Weight of Msand
B6: Empty Weight of Cylinder (g) | C6: - | D6: 4210
B7: Height of Cylinder (cm) | C7: - | D7: 17
B8: Diameter of Cylinder (cm) | C8: - | D8: 15
B9: Volume of Cylinder (cm3) | C9: - | D9: =22/7*D8*D8*D7/4 -> 3005.3571
B10: Cylinder + Uncompacted Msand Weight (g) | C10: - | D10: 8878
B11: Cylinder + Compacted Msand Weight (g) | C11: - | D11: 9235
B12: Uncompacted Msand Weight (g) | C12: - | D12: =D10-D6 -> 4668
B13: Compacted Msand Weight (g) | C13: - | D13: =D11-D6 -> 5025
B14: Average Weight of Msand (g) | C14: - | D14: =AVERAGE(D12:D13) -> 4846.5
B15: Unit Weight of Msand (g/cc) | C15: - | D15: =D14/D9 -> 1.6126203
B16: Unit Weight of Msand (Kg/m3) | C16: - | D16: =D15*1000 -> 1612.6203 | E16: > | F16: 1600 Kg/m3
A21: ADE (H) | E21: AE (H)
A22: Projects | E22: Projects
A23: Srirangam | E23: Srirangam
A24: Divisional Engineer (H)
A25: Projects
A26: Trichy

Sheet Skin Friction
A1: Skin Friction Calculation
A3: Name of Work: | E3: ='Annexure A'!C3 -> Construction of High Level Bridge across Cauvery river ar km 315/6-316/2 of Chennai- Trichy-Dindugal road (SHU-9) in between Trichy and Srirangam
A5: Pile location: | E5: ='Annexure A'!D5 -> Near A1 side | AB5: GL @ Conf bore | AC5: ='Annexure A'!F36 -> 67.47
A6: Chainage: | E6: ='Annexure A'!D8 -> 315.622 | AB6: Pile Top | AC6: ='Annexure A'!D11 -> 67.58
AB7: GL @ site | AC7: ='Annexure A'!D9 -> 67.47
E8: Test Pile | N8: Skin Friction = Rf = ∑ni [ Ki x Pdi x tanδ Asi+ α CiAsi ]
B9: Bore Level | D9: ='Annexure A'!F36 -> 67.47 | L9: =D9-D11 -> -0.11 | X9: 105.616
B11: Pile Top | D11: 67.58 | L11: =D11-D12 -> 0.11 | S11: 0
B12: Ground level | D12: 67.47 | E12: Course sand | L12: =D12-D13 -> 1.5 | N12: Yb = 1.794 g/cc, Ø=23.3, C= 0 kN/m2, N=17 | T12: =R20 -> 2.691
B13: water table | D13: 65.97 | E13: Course sand | L13: =D13-D14 -> 1.5 | N13: Yb = 1.784 g/cc, Ø=24.5, C= 0 kN/m2, N=19 | T13: =R21 -> 5.367 | AB13: =42.99-39.79 -> 3.2
D14: =D13-1.5 -> 64.47 | E14: Course sand | L14: =1.5 -> 1.5 | N14: Yb = 1.753 g/cc, Ø=26.7, C= 0 kN/m2, N=20 | U14: =R22 -> 7.9965
D15: =D14-L14 -> 62.97 | E15: Course sand | L15: =D15-D16 -> 0.445 | N15: Yb = 1.651 g/cc, Ø=28.3, C= 0 kN/m2, N=22 | V15: =R23 -> 8.731195
A16: Max scour level | D16: 62.525 | E16: ='Annexure A'!D22 -> 1.2 | AA16: =D13-D16 -> 3.445
A19: Layer | B19: Layer Depth (m) | D19: Bulk Density t/m3 | E19: Natural Moisture content (%) | F19: Dry Density (t/m2) | G19: Dry Density Yd (t/m3) | H19: Ysub (t/m2) | I19: Diameter (m) | J19: Angle of internal friction φ | K19: K | L19: N | M19: α | N19: tan Ø | O19: C (t/m2) | P19: Height (m) | Q19: P @top (t/m2) | R19: P @bottom (t/m2) | S19: P (t/m2) | T19: A = ΠDh (m2) | V19: skin friction tonne (MT)
A20: 1 | B20: =L12 -> 1.5 | D20: 1.794 | E20: 11.3 | F20: =ROUND(D20/(1+E20/100),3) -> 1.612 | G20: =D20 -> 1.794 | H20: 0 | I20: 1.2 | J20: 23.3 | K20: 1.5 | L20: 17 | M20: 0.3 | N20: =ROUND(TAN(RADIANS(J20)),3) -> 0.431 | O20: 0 | P20: =B20 -> 1.5 | Q20: 0 | R20: =B20*(G20+H20) -> 2.691 | S20: =AVERAGE(Q20:R20) -> 1.3455 | T20: =ROUND((22*B20*I20/7),3) -> 5.657 | V20: =ROUND(K20*S20*N20*T20+M20*O20*T20,3) -> 4.921
A21: 2 | B21: =L13 -> 1.5 | D21: 1.784 | E21: 12.1 | G21: =D21 -> 1.784 | H21: 0 | I21: 1.2 | J21: 24.5 | K21: 1.5 | L21: 19 | M21: 0.3 | N21: =ROUND(TAN(RADIANS(J21)),3) -> 0.456 | O21: 0 | P21: =(P20+B21) -> 3 | Q21: =R20 -> 2.691 | R21: =(B21*(G21+H21)+R20) -> 5.367 | S21: =AVERAGE(Q21:R21) -> 4.029 | T21: =ROUND((22*B21*I21/7),3) -> 5.657 | V21: =ROUND(K21*S21*N21*T21+M21*O21*T21,3) -> 15.59
A22: 3 | B22: =L14 -> 1.5 | D22: 1.753 | E22: 9.32 | G22: =D22 -> 1.753 | H22: 0 | I22: 1.2 | J22: 26.7 | K22: 1.5 | L22: 20 | M22: 0.3 | N22: =ROUND(TAN(RADIANS(J22)),3) -> 0.503 | O22: 0 | P22: =(P21+B22) -> 4.5 | Q22: =R21 -> 5.367 | R22: =(B22*(G22+H22)+R21) -> 7.9965 | S22: =AVERAGE(Q22:R22) -> 6.68175 | T22: =ROUND((22*B22*I22/7),3) -> 5.657 | V22: =ROUND(K22*S22*N22*T22+M22*O22*T22,3) -> 28.519
A23: 4 | B23: =L15 -> 0.445 | D23: 1.651 | E23: 10.5 | G23: =D23 -> 1.651 | H23: 0 | I23: 1.2 | J23: 28.3 | K23: 1.5 | L23: 22 | M23: 0.3 | N23: =ROUND(TAN(RADIANS(J23)),3) -> 0.538 | O23: 0 | P23: =(P22+B23) -> 4.945 | Q23: =R22 -> 7.9965 | R23: =(B23*(G23+H23)+R22) -> 8.731195 | S23: =AVERAGE(Q23:R23) -> 8.3638475 | T23: =ROUND((22*B23*I23/7),3) -> 1.678 | V23: =ROUND(K23*S23*N23*T23+M23*O23*T23,3) -> 11.326
T24: Skin Friction | V24: =SUM(V20:V23) -> 60.356
F51: 1710 x 1510 mm
F52: 50 mm
D67: 22003109 (S.No N284.59-00286)

Sheet Skin Friction-Sand with SDR
A1: Skin Friction Calculation
A3: Name of Work: | E3: ='Annexure A'!C3 -> Construction of High Level Bridge across Cauvery river ar km 315/6-316/2 of Chennai- Trichy-Dindugal road (SHU-9) in between Trichy and Srirangam
A5: Pile location: | E5: ='Annexure A'!D5 -> Near A1 side
A6: Chainage: | E6: ='Annexure A'!D8 -> 315.622
E8: Test Pile | K8: Skin Friction = Rf = ∑ni=1 [ Ki x Pdi x tanδ + α Ci] Asi + α C Asi
B9: Pile Top | D9: ='Annexure A'!D11:G11 -> 67.58 | J9: =D9-D10 -> 34.38
D10: 33.2 | J10: =D10-D11 -> -34.27
B11: Ground Level | D11: ='Annexure A'!D9:G9 -> 67.47 | E11: Medium Compacted Sand with Silt | J11: =D11-D12 -> 1.5 | L11: Layer 1 | M11: Y = 16.9 kN/m2, NMC = 12.6 %, Ø=25.9, C=0 t/m2, N=8
B12: Water Table | D12: ='Annexure A'!D10 -> 65.97 | J12: =1.5-J11-J10 -> 34.27 | L12: Layer 2 | M12: Y = 16.9 kN/m2, NMC = 12.6 %, Ø=25.9, C=0 t/m2, N=8
D13: =D10-1.5 -> 31.7 | E13: Medium Dense Poorly Graded Sand | J13: =D13-D14 -> -30.825 | L13: Layer 3 | M13: Y = 16.8 kN/m2, NMC = 13.4 %, Ø=25.7, C=0 t/m2, N=11
A14: Scour Level | D14: ='Annexure A'!D14:G14 -> 62.525 | E14: ='Annexure A'!D22 -> 1.2
AA15: Density Y | AB15: Layer Depth | AC15: Height H | AE15: P
A16: Layer | B16: Layer Depth (m) | C16: Bulk Density t/m2 | D16: Bulk Density t/m2 | E16: Natural Moisture content (%) | F16: Dry Density (t/m2) | G16: Yd (t/m2) | H16: Ysub (t/m2) | I16: Diameter (m) | J16: Angle of internal friction φ | K16: K | L16: N | M16: α | N16: C (t/m2) | O16: Height (m) | P16: Po (t/m2) | Q16: P (t/m2) | R16: tan Ø | S16: A = ΠDh (m2) | T16: skin friction tonne (MT) | AD16: Po= Y*H | AE16: Rectangle Portion | AF16: Triangle Portion | AG16: Total
A17: 1 | B17: =J11 -> 1.5 | C17: 16.9 | D17: =ROUND(C17/9.81,3) -> 1.723 | E17: 12.6 | F17: =ROUND(D17/(1+E17/100),3) -> 1.53 | G17: =F17 -> 1.53 | I17: 1 | J17: 25.9 | K17: 1.5 | L17: 8 | M17: 0.5 | N17: 0 | O17: =B17 -> 1.5 | P17: =O17*(G17+H17) -> 2.295 | Q17: =AG17 -> 1.72125 | R17: =TAN(RADIANS(J17)) -> 0.48557391 | S17: =ROUND((22*B17*I17/7),3) -> 4.714 | T17: =((K17*Q17*R17+M17*N17)*S17)+M17*N17*S17 -> 5.9099 | AA17: =F17 -> 1.53 | AB17: =B17 -> 1.5 | AC17: =AB17 -> 1.5 | AD17: =AA17*AC17 -> 2.295 | AE17: 0 | AF17: =0.5*AH17*AB17 -> 1.72125 | AG17: =AE17+AF17 -> 1.72125 | AH17: =AA17*AC17 -> 2.295
A18: 2 | B18: =J12 -> 34.27 | C18: 16.9 | D18: =ROUND(C18/9.81,3) -> 1.723 | E18: 12.6 | F18: =ROUND(D18/(1+E18/100),3) -> 1.53 | H18: =F18-1 -> 0.53 | I18: 1 | J18: 25.9 | K18: 1.5 | L18: 8 | M18: 0.5 | N18: 0 | O18: =O17+B18 -> 35.77 | P18: =O18*(G18+H18) -> 18.9581 | Q18: =AG18 -> -206.87257 | R18: =TAN(RADIANS(J18)) -> 0.48557391 | S18: =ROUND((22*B18*I18/7),3) -> 107.706 | T18: =((K18*Q18*R18+M18*N18)*S18)+M18*N18*S18 -> -16228.912 | AA18: =(G18+H18) -> 0.53 | AB18: =B18 -> 34.27 | AC18: =AC17+AB18 -> 35.77 | AD18: =AA18*AC18 -> 18.9581 | AE18: =AH17*AB18 -> 78.64965 | AF18: =-(AH18-AH17)*AB18/2 -> -285.52222 | AG18: =AE18+AF18 -> -206.87257 | AH18: =AA18*AC18 -> 18.9581
A19: 3 | B19: =J13 -> -30.825 | C19: 16.8 | D19: =ROUND(C19/9.81,3) -> 1.713 | E19: 13.4 | F19: =ROUND(D19/(1+E19/100),3) -> 1.511 | H19: =F19-1 -> 0.511 | I19: 1 | J19: 25.7 | K19: 1.5 | L19: 11 | M19: 0.4 | N19: 0 | O19: =O18+B19 -> 4.945 | P19: =O19*(G19+H19) -> 2.526895 | Q19: =AG19 -> -331.13749 | R19: =TAN(RADIANS(J19)) -> 0.4812675 | S19: =ROUND((22*B19*I19/7),3) -> -96.879 | T19: =((K19*Q19*R19+M19*N19)*S19)+M19*N19*S19 -> 23158.786 | AA19: =(G19+H19) -> 0.511 | AB19: =B19 -> -30.825 | AC19: =AC18+AB19 -> 4.945 | AD19: =AA19*AC19 -> 2.526895 | AE19: =AH18*AB19 -> -584.38343 | AF19: =(AH19-AH18)*AB19/2 -> 253.24595 | AG19: =AE19+AF19 -> -331.13749 | AH19: =AA19*AC19 -> 2.526895
T20: =SUM(T17:T19) -> 6935.7837
A24: Divisional Engineer (H)
A25: N&RR
A26: Pudukkottai
F44: 1710 x 1510 mm
F45: 50 mm
D60: 22003109 (S.No N284.59-00286)

Sheet Cross Beam
A1: ='Annexure A'!C3 -> Construction of High Level Bridge across Cauvery river ar km 315/6-316/2 of Chennai- Trichy-Dindugal road (SHU-9) in between Trichy and Srirangam
A2: Cross Beam
A3: ='Annexure A'!D51 -> ISMB 450
E5: Depth of Girder | H5: d | I5: = | J5: 450 | K5: mm
E6: Flange Width | H6: bf | I6: = | J6: 150 | K6: mm
E7: Web Thickness | H7: tw | I7: = | J7: 9.4 | K7: mm
E8: Flange Thickness | H8: tf | I8: = | J8: 17.4 | K8: mm
E9: Moment of Inertia @X | H9: Ixx | I9: = | J9: 30400 | K9: cm4 | O9: 557550
E10: Moment of Inertia @Y | H10: Iyy | I10: = | J10: 834 | K10: cm4
E11: Section Modulus @X | H11: Zxx | I11: = | J11: 1350.7 | K11: cm4
E12: Section Modulus @Y | H12: Zyy | I12: = | J12: 111.2 | K12: cm4
E13: Weight per metre | H13: w | I13: = | J13: 72.4 | K13: kg/m
E14: Conection | H14: h1 | I14: = | J14: 379.2 | K14: mm
Q17: =AG17 -> 0 | AA17: =F17 -> 0 | AE17: 0 | AF17: =0.5*AH17*AB17 -> 0 | AH17: =AA17*AC17 -> 0
Q18: =AG18 -> 0 | AE18: =AH17*AB18 -> 0 | AF18: =-(AH18-AH17)*AB18/2 -> 0 | AH18: =AA18*AC18 -> 0
Q19: =AG19 -> 0 | AE19: =AH18*AB19 -> 0 | AF19: =(AH19-AH18)*AB19/2 -> 0 | AH19: =AA19*AC19 -> 0
B20: Ixx | C20: = | D20: =J9 -> 30400 | E20: cm4
B21: la | C21: = | D21: =J5/2/10 -> 22.5 | E21: cm
B22: h1 | C22: = | D22: =(J5-J8*2)/10 -> 41.52 | E22: cm
B23: tw | C23: = | D23: =J7/10 -> 0.94 | E23: cm
B24: Zxx | C24: = | D24: =J11 -> 1350.7 | E24: cm4
B25: h1 | C25: = | D25: =J14/10 -> 37.92 | E25: cm
B27: Zxx | C27: = | G27: 2 x Ixx | H27: = | I27: =CONCATENATE("2 x ",ROUND(#REF!,0)) -> #REF!
G28: (H+2h) | I28: =CONCATENATE("(",#REF!,"+2x",#REF!,")") -> #REF!
H30: = | I30: =2*#REF!/(#REF!+2*#REF!) -> #REF! | K30: mm3
H31: = | I31: 6948.46 | K31: cm3

Sheet Main Beam-Section ISHB 900
A1: ='Annexure A'!C3 -> Construction of High Level Bridge across Cauvery river ar km 315/6-316/2 of Chennai- Trichy-Dindugal road (SHU-9) in between Trichy and Srirangam
A2: Builtup section Details
A3: Indian Standard Wide Parallel Flange Beam HE900M
E5: Depth of Girder | H5: d | I5: = | J5: 910 | K5: mm
E6: Flange Width | H6: bf | I6: = | J6: 302 | K6: mm
E7: Web Thickness | H7: tw | I7: = | J7: 21 | K7: mm
E8: Flange Thickness | H8: tf | I8: = | J8: 40 | K8: mm
E9: Moment of Inertia @X | H9: Ixx | I9: = | J9: 570400 | K9: cm4 | O9: 557550
E10: Moment of Inertia @Y | H10: Iyy | I10: = | J10: 18450 | K10: cm4
E11: Section Modulus @X | H11: Zxx | I11: = | J11: 12540 | K11: cm4
E12: Section Modulus @Y | H12: Zyy | I12: = | J12: 1222 | K12: cm4
E13: Weight per metre | H13: w | I13: = | J13: 333 | K13: kg/m
Q17: =AG17 -> 0 | AA17: =F17 -> 0 | AE17: 0 | AF17: =0.5*AH17*AB17 -> 0 | AH17: =AA17*AC17 -> 0
Q18: =AG18 -> 0 | AE18: =AH17*AB18 -> 0 | AF18: =-(AH18-AH17)*AB18/2 -> 0 | AH18: =AA18*AC18 -> 0
A19: for HE900M | Q19: =AG19 -> 0 | AE19: =AH18*AB19 -> 0 | AF19: =(AH19-AH18)*AB19/2 -> 0 | AH19: =AA19*AC19 -> 0
B20: Ixx | C20: = | D20: =J9 -> 570400 | E20: cm4
B21: la | C21: = | D21: =J5/2/10 -> 45.5 | E21: cm
B22: h1 | C22: = | D22: =(J5-J8*2)/10 -> 83 | E22: cm
B23: tw | C23: = | D23: =J7/10 -> 2.1 | E23: cm
B24: Zxx | C24: = | D24: =J11 -> 12540 | E24: cm4
B27: Welding between Flange and Web
B28: Horizontal Force | D28: = | E28: Fax / Ixx
D29: = | E29: =N29&" x 1000 x ("&J6/10&" x "&J8/10&" x "&(J5-J8)/2/10&") / "&D20 -> 105.982 x 1000 x (30.2 x 4 x 43.5) / 570400 | M29: ='Load calculation'!K108 -> 105.9815 | N29: =ROUND(M29,3) -> 105.982
D30: = | E30: =N29*1000*#REF!/10*#REF!/10*#REF!/10/#REF! -> #REF! | P30: =109.958*1000 -> 109958
D31: = | E31: =N29*1000*J6/10*J8/10*(J5-J8)/2/10/D20 -> 976.35732 | F31: Kg/cm/ 2 lines
D32: = | E32: =E31/2 -> 488.17866 | F32: Kg/cm/ line
B34: Adopt 8mm weld
B35: Strength of 8mm weld | E35: = | F35: =CONCATENATE("0.707 x 0.8 x ",'Load calculation'!D87," x 1.25") -> 0.707 x 0.8 x 1108.107672 x 1.25
E36: = | F36: =ROUND(0.707*0.8*'Load calculation'!D87*1.25,3) -> 783.432 | H36: Kg/cm | I36: > | J36: =E32 -> 488.17866 | K36: Kg/cm
B40: Zxx | C40: = | G40: 2 x Ixx | H40: = | I40: =CONCATENATE("2 x ",ROUND(#REF!,0)) -> #REF!
G41: (H+2h) | I41: =CONCATENATE("(",#REF!,"+2x",#REF!,")") -> #REF!
H43: = | I43: =2*#REF!/(#REF!+2*#REF!) -> #REF! | K43: mm3
H44: = | I44: 6948.46 | K44: cm3
A51: Divisional Engineer (H)
A52: N&RR
A53: Pudukkottai

Sheet Main Beam
A1: ='Annexure A'!C3 -> Construction of High Level Bridge across Cauvery river ar km 315/6-316/2 of Chennai- Trichy-Dindugal road (SHU-9) in between Trichy and Srirangam
A2: Main Beam
A3: ='Load calculation'!C40 -> WPB-800x300x262.33 with web plate on both sides ( 12 mm thick Ms plate) & Bottom Flange plate of 30 mm thick 330 mm wide.
B6: b | C6: =E19 -> 300 | H6: 33
B7: tf | C7: =H6 -> 33
B8: tw | C8: =E8 -> 41.5 | E8: 41.5
B9: h | C9: =I10 -> 800
B10: h1 | C10: =H10 -> 734 | H10: 734 | I10: 800
B11: y̅ | C11: =H10/2 -> 367
B12: y | C12: =I10/2 -> 400
B13: x | C13: =(H6+H10)/2 -> 383.5
E19: 300
I20: 30
E21: 330
B23: Ixx | C23: = | D23: =E19/10&"*"&I10/10&"*"&I10/10&"*"&I10/10 -> 30*80*80*80 | H23: - | I23: ="("&E19/10&"-"&E8/10&")"&"*("&I10/10&"-2*"&H6/10&")^3" -> (30-4.15)*(80-2*3.3)^3 | L23: .+ | M23: (33*3*3*3)
D24: 12 | I24: 12 | M24: 12
B25: Ixx | C25: = | D25: =ROUND(E19*I10*I10*I10/10000,1) -> 15360000 | H25: - | I25: =ROUND((E19-E8)*(I10-2*H6)*(I10-2*H6)*(I10-2*H6)/10000,1) -> 10222302 | L25: .+ | M25: =(33*3*3*3) -> 891
D26: 12 | I26: 12 | M26: 12
D27: =ROUND(D25/D26,1) -> 1280000 | H27: - | I27: =ROUND(I25/I26,1) -> 851858.5 | L27: .+ | M27: =(891)/12 -> 74.25 | T27: =J28/C12 -> 1070.5395
H28: = | J28: =ROUND(D27-I27+M27,1) -> 428215.8 | L28: cm4 | M28: cm4 | Q28: =2*36*310+22*1000 -> 44320 | R28: 7850 | S28: =Q28*R28/1000000 -> 347.912
B30: Section Modulus | D30: = | E30: Ixx/Y
D31: = | E31: =J28&" / "&C12/10 -> 428215.8 / 40
D32: = | E32: =100*J28/C12/10 -> 10705.395 | H32: cm3
B35: Weight of Beam | D35: = | E35: ="(2*"&H6&"*"&E19&")"&" + "&"("&E8&"*"&H10&")"&" + "&"("&E21&"*"&I20&")} * 7850 / 1000000" -> (2*33*300) + (41.5*734) + (330*30)} * 7850 / 1000000
D36: = | E36: =ROUND((2*H6*E19+E8*H10+E21*I20)*7850/1000000,3) -> 472.264 | H36: Kg/Rm
B38: Welding between Flange and Web
B39: Horizontal Force | D39: = | E39: Fax / Ixx
D40: = | E40: =O40&" x 1000 x ("&C6/10&" x "&C7/10&" x "&C13/10&") / "&J28 -> 105.982 x 1000 x (30 x 3.3 x 38.35) / 428215.8 | N40: ='Load calculation'!K108 -> 105.9815 | O40: =ROUND(N40,3) -> 105.982
D41: = | E41: =O40*1000*C6/10*C7/10*C13/10/J28 -> 939.65837 | Q41: =109.958*1000 -> 109958
D42: = | E42: =O40*1000*C6/10*C7/10*C13/10/J28 -> 939.65837 | F42: Kg/cm/ 2 lines
D43: = | E43: =E42/2 -> 469.82918 | F43: Kg/cm/ line
B45: Adopt 8mm weld
B46: Strength of 8mm weld | E46: = | F46: =CONCATENATE("0.707 x 0.8 x ",'Load calculation'!D87," x 1.25") -> 0.707 x 0.8 x 1108.107672 x 1.25
E47: = | F47: =ROUND(0.707*0.8*'Load calculation'!D87*1.25,3) -> 783.432 | H47: Kg/cm | I47: > | J47: =E43 -> 469.82918 | K47: Kg/cm
B49: Ixx | C49: = | D49: Ixx of ISMB600 | H49: + | I49: ="2 * "&E19/10&" * "&I5/10&" * "&(I11/2/10+I5/10/2)&"^2" -> 2 * 30 * 0 * 0^2
B51: Ixx | C51: = | D51: 91813 | H51: + | I51: =2*E19/10*I5/10*((I11/2/10+I5/10/2)^2) -> 0
H53: = | J53: =I51+D51 -> 91813 | M53: cm4 | Q53: =2*36*310+22*1000 -> 44320 | R53: 7850 | S53: =Q53*R53/1000000 -> 347.912 | T53: =J53/C12 -> 229.5325
B55: Section Modulus | D55: = | E55: Ixx/Y
D56: = | E56: =J53&" / "&C12/10 -> 91813 / 40
D57: = | E57: =100*J53/C12/10 -> 2295.325 | H57: cm3
...

Sheet Kentledge 
A1: Kentledge Arrangements Drawing
A2: Name of work : | C2: ='Annexure A'!C3:G3 -> Construction of High Level Bridge across Cauvery river ar km 315/6-316/2 of Chennai- Trichy-Dindugal road (SHU-9) in between Trichy and Srirangam
P7: Layer 4
P8: Layer 3
A9: 3.75m | P9: Layer 2
P10: Layer 1
O11: Cross Girder
H13: Main Girder | U13: =AK13 -> 0 | AE13: =H13 -> Main Girder | AI13: 0 | AJ13: =0.5*AL13*AF13 -> #VALUE! | AL13: =AE13*AG13 -> #VALUE!
U14: =AK14 -> 0 | AI14: =AL13*AF14 -> #VALUE! | AJ14: =-(AL14-AL13)*AF14/2 -> #VALUE! | AL14: =AE14*AG14 -> 0
U15: =AK15 -> 0 | AI15: =AL14*AF15 -> 0 | AJ15: =(AL15-AL14)*AF15/2 -> 0 | AL15: =AE15*AG15 -> 0
C20: GL
M22: *Not to Scale
C27: Kentledge details
B28: Layer 1: | D28: 9x9x1.25x1.25x1.25 | G28: = | H28: =9*9*1.25*1.25*1.25 -> 158.20312 | I28: m3
B29: Layer 2 : | D29: 9x9x1.25x1.25x1.25 | G29: = | H29: =9*9*1.25*1.25*1.25 -> 158.20312 | I29: m3
B30: Layer 3 : | D30: 8x8x1.25x1.25x0.625 | G30: = | H30: =8*8*1.25*1.25*0.625 -> 62.5 | I30: m3
B31: Layer 4 : | D31: 8x8x1.25x1.25x0.625 | G31: = | H31: =8*8*1.25*1.25*0.625 -> 62.5 | I31: m3
C33: Type 1 CC Block : | G33: Size 1.25m * 125m * 1.25m
C34: Type 2 CC Block : | G34: Size 1.25m * 1.25m * 0.625m
C35: Height : | G35: 3.75
C36: Main beam : | G36: ='Annexure A'!F50&" Nos of "&'Annexure A'!D48 -> 4 Nos of WPB-800x300x262.33 with web plate on both sides ( 12 mm thick Ms plate) & Bottom Flange plate of 30 mm thick 330 mm wide.
C37: Cross beam : | G37: ='Annexure A'!F53&" Nos of "&'Annexure A'!D51 -> 30 Nos of ISMB 450
D69: 22003109 (S.No N284.59-00286) | E69: 22003109 (S.No N284.59-00286) | F69: 22003109 (S.No N284.59-00286)

Sheet Pile location
C2: Test Pile Location | Y2: 1627.25
C3: ='Kentledge '!C2 -> Construction of High Level Bridge across Cauvery river ar km 315/6-316/2 of Chennai- Trichy-Dindugal road (SHU-9) in between Trichy and Srirangam
B4: CHENNAI SIDE | N4: CHATHIRAM SIDE
D6: Ch315.632m | O6: Ch316.178 m
D8: A1 | G8: P1 | I8: P8 | K8: P9 | M8: P15 | P8: A2 | Q8: P10 | S8: P11 | U8: P12 | X8: A2
D12: Test pile
D13: (Ch 315.622m) | M13: * Drawing not to Scale
S20: =AI20 -> 0 | AC20: =#REF! -> #REF! | AG20: 0 | AH20: =0.5*AJ20*AD20 -> #REF! | AJ20: =AC20*AE20 -> #REF!
S21: =AI21 -> 0 | AG21: =AJ20*AD21 -> #REF! | AH21: =-(AJ21-AJ20)*AD21/2 -> #REF! | AJ21: =AC21*AE21 -> 0
S22: =AI22 -> 0 | AG22: =AJ21*AD22 -> 0 | AH22: =(AJ22-AJ21)*AD22/2 -> 0 | AJ22: =AC22*AE22 -> 0
F71: 22003109 (S.No N284.59-00286)

Sheet Details
A1: HIGHWAYS DEPARTMENT
A3: Job No | B3: : | C3: PLT 04 /2023-24
A5: Division | B5: : | C5: Tiruchirappalli (H) C&M
A7: Name of Work | B7: : | C7: ='Annexure A'!C3 -> Construction of High Level Bridge across Cauvery river ar km 315/6-316/2 of Chennai- Trichy-Dindugal road (SHU-9) in between Trichy and Srirangam
A8: Scheme | B8: : | C8: NABARD loan assistance for the year 2020-21
A9: Estimate Amount | B9: : | C9: 101.37 Crore
A11: Bridge type | B11: : | C11: High Level Bridge
A12: No of Span | B12: : | C12: 5 Spans of 20m c/c
A14: Test Type | B14: : | C14: Initial Pile Load test
A16: Test pile Location | B16: : | C16: ='Annexure A'!D5 -> Near A1 side
A17: Chainage | B17: : | C17: ='Annexure A'!D8 -> 315.622
A18: Diameter of Pile | B18: : | C18: ='Annexure A'!D22 -> 1.2
A19: Depth of Test Pile | B19: : | C19: ='Annexure A'!D11-'Annexure A'!D17 -> 20.58
A21: Load on Pier | B21: : | C21: ='Annexure A'!D24 -> 3090
A22: Design Load | B22: : | C22: =C21 -> 3090
C23: (or)
C24: ='Load calculation'!D6 -> 315
A25: Skin Friction | B25: : | C25: ='Load calculation'!D17 -> 24.142
A27: Total Load | B27: : | C27: ='Load calculation'!D19 -> 339.142
A29: Test Load | B29: : | C29: ='Load calculation'!D23 -> 847.855
A30: Kentledge Load (Required) | B30: : | C30: ='Load calculation'!D25 -> 1059.819
A32: Kentledge | B32: : | C32: CC Blocks (2 types)
C34: Type 1 - 1.00m * 1.00m * 1.25 m
C35: Type 2 - 1.25m * 1.25m * 0.625 m

Sheet Pile driven
A1: Pile Driven Details
A3: Name of Work: | E3: ='Annexure A'!C3 -> Construction of High Level Bridge across Cauvery river ar km 315/6-316/2 of Chennai- Trichy-Dindugal road (SHU-9) in between Trichy and Srirangam
A5: Pile location: | E5: ='Annexure A'!D5 -> Near A1 side
A6: Chainage: | E6: ='Annexure A'!D8 -> 315.622
B9: Pile Top | D9: ='Annexure A'!D11:G11 -> 67.58
B11: Ground Level | D11: ='Annexure A'!D9:G9 -> 67.47 | E11: Test Pile
B12: Sill Level | D12: ='Annexure A'!D13:G13 -> 65.8
B13: Cut off Level | D13: ='Annexure A'!D12 -> 64.08
A14: Scour Level | D14: ='Annexure A'!D14 -> 62.525
B15: Water Table | D15: ='Annexure A'!D10 -> 65.97
B17: Max. Scour level | D17: 62.525
B19: Bottom of Pile | D19: ='Annexure A'!D17:G17 -> 47 | E19: ='Annexure A'!D22 -> 1.2 | Q19: =AG19 -> 0 | AA19: =F19 -> 0 | AE19: 0 | AF19: =0.5*AH19*AB19 -> 0 | AH19: =AA19*AC19 -> 0
Q20: =AG20 -> 0 | AE20: =AH19*AB20 -> 0 | AF20: =-(AH20-AH19)*AB20/2 -> 0 | AH20: =AA20*AC20 -> 0
Q21: =AG21 -> 0 | AE21: =AH20*AB21 -> 0 | AF21: =(AH21-AH20)*AB21/2 -> 0 | AH21: =AA21*AC21 -> 0
F55: 1710 x 1510 mm
F56: 50 mm
D71: 22003109 (S.No N284.59-00286)
